BEGIN:VCALENDAR
VERSION:2.0
PRODID:icalendar-ruby
CALSCALE:GREGORIAN
METHOD:PUBLISH
BEGIN:VEVENT
DTSTAMP:20260423T094538Z
UID:43-639053@richmondnewbeginnings.com
DTSTART:20261024T230000Z
DTEND:20261025T170000Z
CLASS:PUBLIC
CREATED:20260409T153248
DESCRIPTION:John McLennan has been a pastor in children's and family minis
 try for over 20 years. He loves traveling to preach God's Word to kids al
 l over the world\, and also uses ventriloquism and illusions to point peop
 le to Jesus in a creative way. John is the president of Cultivating Fait
 h ministries and loves to encourage parents and pastors in discipling the 
 next generations to be powerful\, spirit filled followers of Jesus at a yo
 ung age.\n\nSaturday\, October 24th 6PM\nSunday\, October 25th 10:30AM
LAST-MODIFIED:20260409T153248
LOCATION:New Beginnings Church
SUMMARY:Special Speaker - John McLennan
URL;VALUE=URI:https://www.richmondnewbeginnings.com/events/special-speaker-
 john-mclennan/2026-10-24
ATTACH;FILENAME=John-McLennan-1.png;FMTTYPE=image/png:https://dq5pwpg1q8ru0
 .cloudfront.net/2025/01/16/20/58/37/87c17331-999f-4d43-8d15-13b11310edfa/J
 ohn-McLennan-1.png
END:VEVENT
END:VCALENDAR
